{"text_format":"3","workbook":"xlsx","n_sheets":3,"sheets":["Sheet1","Sheet2","Sheet3"],"not_rendered":{"external_links":1,"defined_names":1},"read":"whole","date_system":"1900"}

{"sheet":"Sheet1","index":0,"n_rows":54,"n_cols":6,"rows_kept":54,"merged":[[1,0,1,5],[3,0,10,0],[11,0,13,0],[14,0,19,0],[20,0,27,0],[28,0,33,0],[34,0,38,0],[39,0,41,0],[43,0,49,0],[50,0,53,0]]}
["附件1"]
["安徽建筑大学2017级各专业拟接纳转入学生数一览表"]
["学院名称","专业名称","校区","学生实际数","班级数","拟接纳转入学生数"]
["土木工程学院","安全工程","南区",90,{"$f":"VLOOKUP(B4,[1]Sheet3!A:B,2,0)","v":2},20]
[null,"测绘工程","南区",87,{"$f":"VLOOKUP(B5,[1]Sheet3!A:B,2,0)","v":2},33]
[null,"城市地下空间工程","南区",90,{"$f":"VLOOKUP(B6,[1]Sheet3!A:B,2,0)","v":2},20]
[null,"道路桥梁与渡河工程","南区",87,{"$f":"VLOOKUP(B7,[1]Sheet3!A:B,2,0)","v":2},23]
[null,"地质工程","南区",80,{"$f":"VLOOKUP(B8,[1]Sheet3!A:B,2,0)","v":2},30]
[null,"交通工程","南区",87,{"$f":"VLOOKUP(B9,[1]Sheet3!A:B,2,0)","v":2},21]
[null,"勘查技术与工程","南区",78,{"$f":"VLOOKUP(B10,[1]Sheet3!A:B,2,0)","v":2},42]
[null,"土木工程","南区",178,{"$f":"VLOOKUP(B11,[1]Sheet3!A:B,2,0)","v":4},32]
["建筑与规划学院","城乡规划","北区",54,{"$f":"VLOOKUP(B12,[1]Sheet3!A:B,2,0)","v":2},16]
[null,"风景园林","北区",64,{"$f":"VLOOKUP(B13,[1]Sheet3!A:B,2,0)","v":2},6]
[null,"建筑学","北区",49,{"$f":"VLOOKUP(B14,[1]Sheet3!A:B,2,0)","v":2},20]
["环境与能源工程学院","地理信息科学","南区",87,{"$f":"VLOOKUP(B15,[1]Sheet3!A:B,2,0)","v":2},23]
[null,"给排水科学与工程","南区",90,{"$f":"VLOOKUP(B16,[1]Sheet3!A:B,2,0)","v":2},20]
[null,"环境工程","南区",88,{"$f":"VLOOKUP(B17,[1]Sheet3!A:B,2,0)","v":2},22]
[null,"环境生态工程","南区",89,{"$f":"VLOOKUP(B18,[1]Sheet3!A:B,2,0)","v":2},21]
[null,"建筑环境与能源应用工程","南区",88,{"$f":"VLOOKUP(B19,[1]Sheet3!A:B,2,0)","v":2},22]
[null,"能源与动力工程","南区",90,{"$f":"VLOOKUP(B20,[1]Sheet3!A:B,2,0)","v":2},20]
["经济与管理学院","财务管理","北区",126,{"$f":"VLOOKUP(B21,[1]Sheet3!A:B,2,0)","v":3},24]
[null,"房地产开发与管理","南区",79,{"$f":"VLOOKUP(B22,[1]Sheet3!A:B,2,0)","v":2},31]
[null,"工程管理","南区",90,{"$f":"VLOOKUP(B23,[1]Sheet3!A:B,2,0)","v":2},20]
[null,"工程造价","南区",89,{"$f":"VLOOKUP(B24,[1]Sheet3!A:B,2,0)","v":2},21]
[null,"会计学","北区",124,{"$f":"VLOOKUP(B25,[1]Sheet3!A:B,2,0)","v":3},36]
[null,"金融工程","北区",87,{"$f":"VLOOKUP(B26,[1]Sheet3!A:B,2,0)","v":2},23]
[null,"经济学","北区",87,{"$f":"VLOOKUP(B27,[1]Sheet3!A:B,2,0)","v":2},33]
[null,"资产评估","北区",91,{"$f":"VLOOKUP(B28,[1]Sheet3!A:B,2,0)","v":2},29]
["电子与信息工程学院","电子信息工程","南区",95,{"$f":"VLOOKUP(B29,[1]Sheet3!A:B,2,0)","v":2},15]
[null,"计算机科学与技术","南区",94,{"$f":"VLOOKUP(B30,[1]Sheet3!A:B,2,0)","v":2},16]
[null,"建筑电气与智能化","南区",90,{"$f":"VLOOKUP(B31,[1]Sheet3!A:B,2,0)","v":2},20]
[null,"通信工程","南区",92,{"$f":"VLOOKUP(B32,[1]Sheet3!A:B,2,0)","v":2},18]
[null,"网络工程","南区",93,{"$f":"VLOOKUP(B33,[1]Sheet3!A:B,2,0)","v":2},17]
[null,"物联网工程","南区",90,{"$f":"VLOOKUP(B34,[1]Sheet3!A:B,2,0)","v":2},20]
["材料与化学工程学院","高分子材料与工程","南区",89,{"$f":"VLOOKUP(B35,[1]Sheet3!A:B,2,0)","v":2},21]
[null,"化学工程与工艺","南区",88,{"$f":"VLOOKUP(B36,[1]Sheet3!A:B,2,0)","v":2},32]
[null,"金属材料工程","南区",86,{"$f":"VLOOKUP(B37,[1]Sheet3!A:B,2,0)","v":2},24]
[null,"无机非金属材料工程","南区",91,{"$f":"VLOOKUP(B38,[1]Sheet3!A:B,2,0)","v":2},19]
[null,"应用化学","南区",90,{"$f":"VLOOKUP(B39,[1]Sheet3!A:B,2,0)","v":2},30]
["数理学院","声学","南区",88,{"$f":"VLOOKUP(B40,[1]Sheet3!A:B,2,0)","v":2},32]
[null,"统计学","南区",87,{"$f":"VLOOKUP(B41,[1]Sheet3!A:B,2,0)","v":2},33]
[null,"应用物理学","南区",78,{"$f":"VLOOKUP(B42,[1]Sheet3!A:B,2,0)","v":2},32]
["外语学院","英语","南区",90,3,60]
["机械与电气工程学院","测控技术与仪器","南区",90,{"$f":"VLOOKUP(B44,[1]Sheet3!A:B,2,0)","v":2},30]
[null,"电气工程及其自动化","南区",90,{"$f":"VLOOKUP(B45,[1]Sheet3!A:B,2,0)","v":2},20]
[null,"工业设计","南区",89,{"$f":"VLOOKUP(B46,[1]Sheet3!A:B,2,0)","v":2},21]
[null,"过程装备与控制工程","南区",90,{"$f":"VLOOKUP(B47,[1]Sheet3!A:B,2,0)","v":2},30]
[null,"机械电子工程","南区",90,{"$f":"VLOOKUP(B48,[1]Sheet3!A:B,2,0)","v":2},20]
[null,"机械设计制造及其自动化","南区",105,{"$f":"VLOOKUP(B49,[1]Sheet3!A:B,2,0)","v":3},45]
[null,"自动化","南区",90,{"$f":"VLOOKUP(B50,[1]Sheet3!A:B,2,0)","v":2},20]
["公共管理学院","法学","南区",89,{"$f":"VLOOKUP(B51,[1]Sheet3!A:B,2,0)","v":2},31]
[null,"劳动与社会保障","南区",80,{"$f":"VLOOKUP(B52,[1]Sheet3!A:B,2,0)","v":2},30]
[null,"人力资源管理","南区",61,{"$f":"VLOOKUP(B53,[1]Sheet3!A:B,2,0)","v":2},49]
[null,"土地资源管理","南区",77,{"$f":"VLOOKUP(B54,[1]Sheet3!A:B,2,0)","v":2},33]

{"sheet":"Sheet2","index":1,"n_rows":0,"n_cols":0,"rows_kept":0}

{"sheet":"Sheet3","index":2,"n_rows":0,"n_cols":0,"rows_kept":0}